BEGIN:VCALENDAR
BEGIN:VEVENT
SUMMARY:Carrie Frey: Eric Wubbels Viola Quartet (Frey\, Martine Thomas\, S
 am Kelder\, Anna Griffis) + Works by Frey\, Westhoff\, Dunn\, Kendall\, So
 per\, Oram (ft. Tomás Cruz) [nycnoise]
DTSTART:20240419T160000Z
DTEND:20240419T170000Z
UID:d483261c-5394-4f6f-8443-c9340f074c28
CREATED:20260419T090646Z
DESCRIPTION:livestream (passcode 815180)
LOCATION:cuny elebash hall (365 5th ave\, manhattan)
END:VEVENT
END:VCALENDAR
