BEGIN:VCALENDAR
BEGIN:VEVENT
SUMMARY:John McCowen / Barry Weisblat / Sean Meehan\, Lyle Rivera [nycnois
 e]
DTSTART:20240428T003000Z
DTEND:20240428T013000Z
UID:895cc453-ea3d-4a4a-9193-6d186d961759
CREATED:20260419T090646Z
DESCRIPTION:7:30pm kasha &amp\; pierogi (yum)\, 8:30pm musix
LOCATION:sunview luncheonette (221 nassau ave\, brooklyn)
END:VEVENT
END:VCALENDAR
