BEGIN:VCALENDAR
BEGIN:VEVENT
SUMMARY:X-TRA.SERVICES x Printed Matter Art Book Fair x PACBI NOW: 063N13\
 , E.B.M.\, Dissensus\, Batalá New York\, 063N13 [nycnoise]
DTSTART:20240427T160000Z
DTEND:20240427T170000Z
UID:87f4814d-62a3-4dad-addd-3056d8b46362
CREATED:20260419T090724Z
DESCRIPTION:SIGN THE PETITION for printed matter to join PACBI!! also NYC 
 SPACES &amp\; COLLECTIVES\, U SHOULD ENDORSE PACBI TOO!!! statements to co
 py/paste\, images\, &amp\; more @ nyc-noise.com/pacbi/
LOCATION:548 art fair block
END:VEVENT
END:VCALENDAR
