BEGIN:VCALENDAR
BEGIN:VEVENT
SUMMARY:Jokari\, K Porcelain [nycnoise]
DTSTART:20240428T010000Z
DTEND:20240428T020000Z
UID:e3c1c067-8275-45a1-bd76-5bb3b07a9215
CREATED:20260419T085103Z
DESCRIPTION:show info in stories
LOCATION:brothers wash & dry laundromat (5420 nurge ave\, queens)
END:VEVENT
END:VCALENDAR
