BEGIN:VCALENDAR
BEGIN:VEVENT
SUMMARY:Shun Ishiwaka & Adam O'Farrill [nycnoise]
DTSTART:20250607T233000Z
DTEND:20250608T003000Z
UID:170c461a-5c32-4e06-8742-c3dad15c0d2f
CREATED:20260420T145144Z
DESCRIPTION:
LOCATION:japan society (333 e. 47th St\, New York\, NY 10017)
END:VEVENT
END:VCALENDAR
