BEGIN:VCALENDAR
BEGIN:VEVENT
SUMMARY:Composer Portraits: Jessie Montgomery [nycnoise]
DTSTART:20250403T233000Z
DTEND:20250404T003000Z
UID:75cb0099-44cf-419c-8d97-1369a8a15db7
CREATED:20260420T145318Z
DESCRIPTION:
LOCATION:miller theatre (2960 broadway\, manhattan)
END:VEVENT
END:VCALENDAR
