BEGIN:VCALENDAR
BEGIN:VEVENT
SUMMARY:Amba #1/4: DUO (Lee Ranaldo & Zoh Amba) [nycnoise]
DTSTART:20250403T003000Z
DTEND:20250403T013000Z
UID:c906697e-cf0b-437a-ab9f-78a217768cbe
CREATED:20260420T145358Z
DESCRIPTION:
LOCATION:stone (55 w. 13th st.\, manhattan)
END:VEVENT
END:VCALENDAR
