BEGIN:VCALENDAR
BEGIN:VEVENT
SUMMARY:Amba #3/4: SUN ENSEMBLE (Zoh Amba\, Lex Korten\, Miguel Marcel Rus
 sell\, TBA) [nycnoise]
DTSTART:20250405T003000Z
DTEND:20250405T013000Z
UID:ccea4cbc-22c6-4c99-b7fe-ec6f32226660
CREATED:20260420T145447Z
DESCRIPTION:full lineup asap
LOCATION:stone (55 w. 13th st.\, manhattan)
END:VEVENT
END:VCALENDAR
