BEGIN:VCALENDAR
BEGIN:VEVENT
SUMMARY:Parker #3/4: 'Ion' (William Hooker\, William Parker\, Amirtha Kida
 mbi) [nycnoise]
DTSTART:20250419T003000Z
DTEND:20250419T013000Z
UID:d6820f1f-1c64-45fc-be2f-e90f6140d296
CREATED:20260420T145347Z
DESCRIPTION:
LOCATION:stone (55 w. 13th st.\, manhattan)
END:VEVENT
END:VCALENDAR
