BEGIN:VCALENDAR
BEGIN:VEVENT
SUMMARY:Atoui #3/4: Improv night (Chuck Bettis\, Jad Atoui\, Nava Dunkelma
 n) [nycnoise]
DTSTART:20250426T003000Z
DTEND:20250426T013000Z
UID:bfd26b2c-74ab-4c0a-b3dc-ed3f29aab49a
CREATED:20260420T145405Z
DESCRIPTION:
LOCATION:stone (55 w. 13th st.\, manhattan)
END:VEVENT
END:VCALENDAR
