BEGIN:VCALENDAR
BEGIN:VEVENT
SUMMARY:Victor #1/4: Jean (Fay Victor\, Liany Mateo\, Lesley Mok) [nycnois
 e]
DTSTART:20250501T003000Z
DTEND:20250501T013000Z
UID:4a76b3f6-3b6a-4050-8986-1088fd95d773
CREATED:20260420T145246Z
DESCRIPTION:
LOCATION:stone (55 w. 13th st.\, manhattan)
END:VEVENT
END:VCALENDAR
