BEGIN:VCALENDAR
BEGIN:VEVENT
SUMMARY:Victor #2/4: Flutter (Fay Victor & Nicole Mitchell) [nycnoise]
DTSTART:20250502T003000Z
DTEND:20250502T013000Z
UID:f09a4561-5f75-4169-8bea-580ffdb4fce6
CREATED:20260420T145545Z
DESCRIPTION:
LOCATION:stone (55 w. 13th st.\, manhattan)
END:VEVENT
END:VCALENDAR
