BEGIN:VCALENDAR
BEGIN:VEVENT
SUMMARY:Victor #4/4: Quartet (Fay Victor\, Karen Borca\, Lester St. Louis\
 , Reggie Nicholson) [nycnoise]
DTSTART:20250504T003000Z
DTEND:20250504T013000Z
UID:2a66c0f5-d525-488f-95a5-61f087c01c28
CREATED:20260420T145247Z
DESCRIPTION:
LOCATION:stone (55 w. 13th st.\, manhattan)
END:VEVENT
END:VCALENDAR
