BEGIN:VCALENDAR
BEGIN:VEVENT
SUMMARY:Sumbry #1/4: Kweku Sumbry: Solo Drum Exhibit [nycnoise]
DTSTART:20250508T003000Z
DTEND:20250508T013000Z
UID:19165d73-5e95-49cb-a50e-d5356c4d099a
CREATED:20260420T145334Z
DESCRIPTION:
LOCATION:stone (55 w. 13th st.\, manhattan)
END:VEVENT
END:VCALENDAR
