BEGIN:VCALENDAR
BEGIN:VEVENT
SUMMARY:Sumbry #4/4: Time Lapse (Kweku Sumbry\, Sekou VH\, Sanu Basu\, Jam
 al Dickerson\, Sekou Payton\, Nana Williams\, Yusef Payton) [nycnoise]
DTSTART:20250511T003000Z
DTEND:20250511T013000Z
UID:0a41ed63-b10f-48c5-8d20-5e89bb5b4997
CREATED:20260420T145604Z
DESCRIPTION:
LOCATION:stone (55 w. 13th st.\, manhattan)
END:VEVENT
END:VCALENDAR
