BEGIN:VCALENDAR
BEGIN:VEVENT
SUMMARY:Rothenberg #1/4: TRIO (Ikue Mori\, Ned Rothenberg\, Billy Martin) 
 [nycnoise]
DTSTART:20250515T003000Z
DTEND:20250515T013000Z
UID:30693d91-9d59-40b6-8d56-6d29dcadd80a
CREATED:20260420T145405Z
DESCRIPTION:
LOCATION:stone (55 w. 13th st.\, manhattan)
END:VEVENT
END:VCALENDAR
