BEGIN:VCALENDAR
BEGIN:VEVENT
SUMMARY:Rothenberg #2/4: TRIO (Sylvie Courvoisier\, Nasheet Waits\, Ned Ro
 thenberg) [nycnoise]
DTSTART:20250516T003000Z
DTEND:20250516T013000Z
UID:6a4dff61-53d4-48b0-a84e-4b698e816ae2
CREATED:20260420T145549Z
DESCRIPTION:
LOCATION:stone (55 w. 13th st.\, manhattan)
END:VEVENT
END:VCALENDAR
