BEGIN:VCALENDAR
BEGIN:VEVENT
SUMMARY:Rothenberg #3/4: DUO (Craig Taborn & Ned Rothenberg) [nycnoise]
DTSTART:20250517T003000Z
DTEND:20250517T013000Z
UID:05f90a85-8c61-4964-88be-7d395971b0f4
CREATED:20260420T145455Z
DESCRIPTION:
LOCATION:stone (55 w. 13th st.\, manhattan)
END:VEVENT
END:VCALENDAR
