BEGIN:VCALENDAR
BEGIN:VEVENT
SUMMARY:Frith #1/3: DUO (Fred Frith & special guest drummer) [nycnoise]
DTSTART:20250522T003000Z
DTEND:20250522T013000Z
UID:a327fcff-37be-4b9d-a96f-3ed9815038ab
CREATED:20260420T145245Z
DESCRIPTION:
LOCATION:stone (55 w. 13th st.\, manhattan)
END:VEVENT
END:VCALENDAR
