BEGIN:VCALENDAR
BEGIN:VEVENT
SUMMARY:Goldberg #2/4: Trouble Trouble (Myra Melford\, Danny Lubin-Laden\,
  Ben Goldberg) [nycnoise]
DTSTART:20250530T003000Z
DTEND:20250530T013000Z
UID:fccb1c34-8d97-4076-96b7-9be3d4dd13a1
CREATED:20260420T145353Z
DESCRIPTION:
LOCATION:stone (55 w. 13th st.\, manhattan)
END:VEVENT
END:VCALENDAR
