BEGIN:VCALENDAR
BEGIN:VEVENT
SUMMARY:Goldberg #4/4: Quintet (Michael Coleman\, Luke Bergman\, Kenny Wol
 lesen\, Hamir Atwal\, Ben Goldberg) [nycnoise]
DTSTART:20250601T003000Z
DTEND:20250601T013000Z
UID:68a284d0-9ab7-4bdf-ad5b-5b53e1293f3f
CREATED:20260420T145608Z
DESCRIPTION:
LOCATION:stone (55 w. 13th st.\, manhattan)
END:VEVENT
END:VCALENDAR
