BEGIN:VCALENDAR
BEGIN:VEVENT
SUMMARY:Improv Week #1/4: IMPROV NIGHT 1 (Ikue Mori\, John Zorn\, Simon Ha
 nes\, Kenny Wollesen\, Jim Staley\, special guests) [nycnoise]
DTSTART:20250605T003000Z
DTEND:20250605T013000Z
UID:cb05e25c-17ee-4f81-a928-194776890160
CREATED:20260420T145255Z
DESCRIPTION:
LOCATION:stone (55 w. 13th st.\, manhattan)
END:VEVENT
END:VCALENDAR
