BEGIN:VCALENDAR
BEGIN:VEVENT
SUMMARY:Improv Week #3/4: IMPROV NIGHT 3 (Erik Friedlander\, special guest
 s) [nycnoise]
DTSTART:20250607T003000Z
DTEND:20250607T013000Z
UID:86cacad9-8763-48b1-acae-cb92becefa32
CREATED:20260420T145450Z
DESCRIPTION:
LOCATION:stone (55 w. 13th st.\, manhattan)
END:VEVENT
END:VCALENDAR
