BEGIN:VCALENDAR
BEGIN:VEVENT
SUMMARY:Belogenis #1/4: Exuberance / Afterlife (Daniel Carter\, Louie Belo
 genis\, Hill Greene\, Michael Wimberly) [nycnoise]
DTSTART:20250612T003000Z
DTEND:20250612T013000Z
UID:d48b6dd3-269f-4fa6-8f4d-83abbf9e8935
CREATED:20260420T145157Z
DESCRIPTION:
LOCATION:stone (55 w. 13th st.\, manhattan)
END:VEVENT
END:VCALENDAR
