BEGIN:VCALENDAR
BEGIN:VEVENT
SUMMARY:Belogenis #2/4: QUARTET (Dave Douglas\, Louie Belogenis\, Mark Hel
 ias\, Kate Gentile) [nycnoise]
DTSTART:20250613T003000Z
DTEND:20250613T013000Z
UID:8f453a32-5abe-4e35-8b03-1da7111d2f8e
CREATED:20260420T145538Z
DESCRIPTION:
LOCATION:stone (55 w. 13th st.\, manhattan)
END:VEVENT
END:VCALENDAR
