BEGIN:VCALENDAR
BEGIN:VEVENT
SUMMARY:Eisenstadt #3/4: TRIO (Barry Altschul\, James Brandon Lewis\, Harr
 is Eisenstadt) [nycnoise]
DTSTART:20250628T000000Z
DTEND:20250628T010000Z
UID:bd2e7f04-9087-409c-8bef-ed563a7d7d51
CREATED:20260420T145243Z
DESCRIPTION:time is real\, exception to stone 8:30s
LOCATION:stone (55 w. 13th st.\, manhattan)
END:VEVENT
END:VCALENDAR
