BEGIN:VCALENDAR
BEGIN:VEVENT
SUMMARY:Eisenstadt #4/4: DUOS (Henry Threadgill\, Sara Schoenbeck\, Harris
  Eisenstadt) [nycnoise]
DTSTART:20250629T003000Z
DTEND:20250629T013000Z
UID:0a06b401-b635-427b-9f9d-e3bfcd0d7c18
CREATED:20260420T145603Z
DESCRIPTION:
LOCATION:stone (55 w. 13th st.\, manhattan)
END:VEVENT
END:VCALENDAR
