BEGIN:VCALENDAR
BEGIN:VEVENT
SUMMARY:Little Wings\, Pearla [nycnoise]
DTSTART:20250726T000000Z
DTEND:20250726T010000Z
UID:f4d3594b-5890-4bdf-917f-3cc0f99f11a6
CREATED:20260420T164110Z
DESCRIPTION:7pm doors
LOCATION:baby's all right (146 broadway\, brooklyn)
END:VEVENT
END:VCALENDAR
