BEGIN:VCALENDAR
BEGIN:VEVENT
SUMMARY:Mitchell #1/4: TRIO (Matt Mitchell\, Kim Cass\, Ches Smith) [nycno
 ise]
DTSTART:20250717T003000Z
DTEND:20250717T013000Z
UID:eff240f6-f0bd-43e2-8892-2b583cffc3e1
CREATED:20260420T145341Z
DESCRIPTION:
LOCATION:stone (55 w. 13th st.\, manhattan)
END:VEVENT
END:VCALENDAR
