BEGIN:VCALENDAR
BEGIN:VEVENT
SUMMARY:Mitchell #2/4: QUARTET (Matt Mitchell\, Miles Okazaki\, Chris Tord
 ini\, Dan Weiss) [nycnoise]
DTSTART:20250718T003000Z
DTEND:20250718T013000Z
UID:2ad580e0-cc1d-4230-88a1-8e48babf4713
CREATED:20260420T145155Z
DESCRIPTION:
LOCATION:stone (55 w. 13th st.\, manhattan)
END:VEVENT
END:VCALENDAR
