BEGIN:VCALENDAR
BEGIN:VEVENT
SUMMARY:Mitchell #3/4: QUARTET (Matt Mitchell\, Brandon Seabrook\, Kim Cas
 s\, Kate Gentile) [nycnoise]
DTSTART:20250719T003000Z
DTEND:20250719T013000Z
UID:f168d87d-b782-497c-a1c1-385043c3755d
CREATED:20260420T164039Z
DESCRIPTION:
LOCATION:stone (55 w. 13th st.\, manhattan)
END:VEVENT
END:VCALENDAR
