BEGIN:VCALENDAR
BEGIN:VEVENT
SUMMARY:Mezzacappa #1/4: duo B. (Lisa Mezzacappa & Jason Levis\, Cory Wrig
 ht's Green Mitchell Trio (w/ Mezzacappa\, Levis) [nycnoise]
DTSTART:20250724T003000Z
DTEND:20250724T013000Z
UID:b1f337cf-d779-4bad-8483-eb01c4042c27
CREATED:20260420T145336Z
DESCRIPTION:
LOCATION:stone (55 w. 13th st.\, manhattan)
END:VEVENT
END:VCALENDAR
