BEGIN:VCALENDAR
BEGIN:VEVENT
SUMMARY:Mezzacappa #4/4: Lisa Mezzacappa Six(ish) (w/ Aaron Bennett\, Kyle
  Bruckmann\, Mark Clifford\, Brett Carson\, Jordan Glenn) [nycnoise]
DTSTART:20250727T003000Z
DTEND:20250727T013000Z
UID:50b71163-5e15-4c9a-94be-0ccdb7667245
CREATED:20260420T164158Z
DESCRIPTION:"and special guests"
LOCATION:stone (55 w. 13th st.\, manhattan)
END:VEVENT
END:VCALENDAR
