BEGIN:VCALENDAR
BEGIN:VEVENT
SUMMARY:Black Quantum Futurism presents: Moor Mother [nycnoise]
DTSTART:20250415T230000Z
DTEND:20250416T000000Z
UID:50c237b5-3fcb-412a-8bc9-ea09be886f82
CREATED:20260420T145457Z
DESCRIPTION:
LOCATION:performance space (150 1st ave (at 9th st.)\, 4th fl.\, manhattan
 )
END:VEVENT
END:VCALENDAR
