BEGIN:VCALENDAR
BEGIN:VEVENT
SUMMARY:LPR presents: This Will Destroy You\, Jesse Beaman [nycnoise]
DTSTART:20250621T000000Z
DTEND:20250621T010000Z
UID:f2073493-2bd9-4a2d-a70b-8ea59af83c98
CREATED:20260420T145550Z
DESCRIPTION:
LOCATION:littlefield (635 sackett st.\, brooklyn)
END:VEVENT
END:VCALENDAR
