BEGIN:VCALENDAR
BEGIN:VEVENT
SUMMARY:Center For Psychic Technology Presents: Ka Baird & Sam Newsome\, B
 entley Anderson\, Spaghetti Human Being\, id m theft able [nycnoise]
DTSTART:20250404T230000Z
DTEND:20250405T000000Z
UID:b177fb05-7e3e-4bb0-8c36-b60bcf782720
CREATED:20260420T145454Z
DESCRIPTION:🇵🇸 PACBI
LOCATION:intercomm (584 Woodward Ave\, Ridgewood\, NY 11385)
END:VEVENT
END:VCALENDAR
