BEGIN:VCALENDAR
BEGIN:VEVENT
SUMMARY:False Harmonics #23: Brìghde Chaimbeul\, Cleek Schrey & Nora Brow
 n\, Laura Ortman [nycnoise]
DTSTART:20250408T233000Z
DTEND:20250409T003000Z
UID:124be6dc-39cd-4bd8-a36a-55a31efcd916
CREATED:20260420T145409Z
DESCRIPTION:7pm doors
LOCATION:pioneer works (159 pioneer st.\, brooklyn)
END:VEVENT
END:VCALENDAR
