BEGIN:VCALENDAR
BEGIN:VEVENT
SUMMARY:ENDE TYMES 15\, Night #1/3: Aaron Dilloway\, The Rita\, Spiteful W
 omb\, Charmaine Lee\, Valise [nycnoise]
DTSTART:20250411T000000Z
DTEND:20250411T010000Z
UID:083e997d-d1e7-443a-96f5-72ca69244a29
CREATED:20260420T145606Z
DESCRIPTION:🇵🇸 PACBI&nbsp\;(ende tymes!!) +++ 7pm doors\; $100 membe
 rship for all 3 nights &amp\; ~stuff~!&nbsp\;note:&nbsp\;night #1 in red h
 ook\, nights #2-3 in ridgewood!
LOCATION:pioneer works (159 pioneer st.\, brooklyn)
END:VEVENT
END:VCALENDAR
