BEGIN:VCALENDAR
BEGIN:VEVENT
SUMMARY:DMG Free Tues: patrick brennan / Kevin Nathaniel Hylton / On Ka’
 a Davis / Shu Odumura / Claire de Brunner / Paul Austerlitz\, Evan Palmer 
 / Sam Childs / John Dalton\, Marija Kovačević: Music for Broken Violins 
 [nycnoise]
DTSTART:20250401T223000Z
DTEND:20250401T233000Z
UID:d37c8d6c-aef6-42ce-8f3f-deb36fdce778
CREATED:20260420T145502Z
DESCRIPTION:
LOCATION:downtown music gallery (13 monroe st.\, manhattan)
END:VEVENT
END:VCALENDAR
