BEGIN:VCALENDAR
BEGIN:VEVENT
SUMMARY:Sunchoked Presents: Kate Slauter\, Tailz\, Meadow Le'Elle\, Julia 
 Casablancas\, Sunchoked\, Sara Brodsky\, Owt Rocnes [nycnoise]
DTSTART:20250403T000000Z
DTEND:20250403T010000Z
UID:a8927837-116a-421e-8e2f-9dd477ff172a
CREATED:20260420T145448Z
DESCRIPTION:7:30pm doors
LOCATION:hart bar (538 hart st.\, brooklyn)
END:VEVENT
END:VCALENDAR
