BEGIN:VCALENDAR
BEGIN:VEVENT
SUMMARY:Dot Dash Presents: Painted Faces\, Nervous Guys\, G. Gordon Gritty
 \, Childless [nycnoise]
DTSTART:20250405T003000Z
DTEND:20250405T013000Z
UID:8793fb11-c6fe-4388-98b9-3a9076824feb
CREATED:20260420T145340Z
DESCRIPTION:7:30pm doors
LOCATION:hart bar (538 hart st.\, brooklyn)
END:VEVENT
END:VCALENDAR
