BEGIN:VCALENDAR
BEGIN:VEVENT
SUMMARY:Ridgewood Jazz Fest\, Night #1/3 [nycnoise]
DTSTART:20250426T000000Z
DTEND:20250426T010000Z
UID:8d744279-c06b-4da2-a31b-ff3498eb7b69
CREATED:20260420T145539Z
DESCRIPTION:lineup asap
LOCATION:dada (6047 Myrtle Ave\, Queens\, NY 11385)
END:VEVENT
END:VCALENDAR
