BEGIN:VCALENDAR
BEGIN:VEVENT
SUMMARY:Greg Kelley & Nick Neuburg\, Cecilia Lopez / Drew Wesely / Eli Wal
 lace\, Kevin Murray [nycnoise]
DTSTART:20250403T233000Z
DTEND:20250404T003000Z
UID:a766236e-7b8a-41dc-95a3-2bc0934d4042
CREATED:20260420T145556Z
DESCRIPTION:🇵🇸 PACBI
LOCATION:record shop (360 van brunt st.\, brooklyn)
END:VEVENT
END:VCALENDAR
