BEGIN:VCALENDAR
BEGIN:VEVENT
SUMMARY:Pool Series: Nate Wooley / Aaron Rubinstein / Kevin Murray [nycnoi
 se]
DTSTART:20250426T233000Z
DTEND:20250427T003000Z
UID:6b967b01-e50a-48cf-b243-020b7dbebc12
CREATED:20260420T145607Z
DESCRIPTION:🇵🇸 PACBI
LOCATION:record shop (360 van brunt st.\, brooklyn)
END:VEVENT
END:VCALENDAR
