BEGIN:VCALENDAR
BEGIN:VEVENT
SUMMARY:Kevin Murray\, Webb Crawford / Alex McGrath / Francesca H\, Michae
 l Foster / Tom Malmendier / Emilie Skrijelj [nycnoise]
DTSTART:20250524T233000Z
DTEND:20250525T003000Z
UID:79350c3f-b232-4074-b159-66c765999dde
CREATED:20260420T145353Z
DESCRIPTION:🇵🇸 PACBI
LOCATION:record shop (360 van brunt st.\, brooklyn)
END:VEVENT
END:VCALENDAR
