BEGIN:VCALENDAR
BEGIN:VEVENT
SUMMARY:Jack Langdon & Webb Crawford\, Will Greene & Kevin Murray\, Chuck 
 Roth & Camille Dietrich [nycnoise]
DTSTART:20250622T233000Z
DTEND:20250623T003000Z
UID:73a2bb54-4192-4d9e-b383-84fb596d50c9
CREATED:20260420T145606Z
DESCRIPTION:🇵🇸 PACBI
LOCATION:record shop (360 van brunt st.\, brooklyn)
END:VEVENT
END:VCALENDAR
