BEGIN:VCALENDAR
BEGIN:VEVENT
SUMMARY:Leila Adu\, Talk Show (Qasim Naqvi & Steph Richards) [nycnoise]
DTSTART:20250411T000000Z
DTEND:20250411T010000Z
UID:9667e763-1a32-4115-afa6-f1d17f13e9e3
CREATED:20260420T145209Z
DESCRIPTION:7:30pm doors
LOCATION:owl (497 rogers ave\, brooklyn)
END:VEVENT
END:VCALENDAR
