BEGIN:VCALENDAR
BEGIN:VEVENT
SUMMARY:Amir ElSaffar\, dream brigade (Phillip Golub & Lesley Mok) [nycnoi
 se]
DTSTART:20250523T000000Z
DTEND:20250523T010000Z
UID:8d7efbf0-055f-4076-bea0-8dcac0a17995
CREATED:20260420T145245Z
DESCRIPTION:7:30pm doors
LOCATION:owl (497 rogers ave\, brooklyn)
END:VEVENT
END:VCALENDAR
