BEGIN:VCALENDAR
BEGIN:VEVENT
SUMMARY:Coleman Sat #3/4: Anthony Coleman [nycnoise]
DTSTART:20250419T220000Z
DTEND:20250419T230000Z
UID:bd25a473-16a3-406b-992a-6f58dd94a72b
CREATED:20260420T145409Z
DESCRIPTION:
LOCATION:barbès (376 9th st.\, brooklyn)
END:VEVENT
END:VCALENDAR
