BEGIN:VCALENDAR
BEGIN:VEVENT
SUMMARY:Striped Light presents: Dark Circuits Suitcase Quartet (Luke Duboi
 s\, Shoko Nagai\, Alex Zhu\, Hans Tammen)\, Erin Rogers\, Chuck Bettis & J
 erry Lim [nycnoise]
DTSTART:20250415T000000Z
DTEND:20250415T010000Z
UID:605a2642-92a7-46bd-b8c0-3fbe053e08c2
CREATED:20260420T145501Z
DESCRIPTION:
LOCATION:striped light
END:VEVENT
END:VCALENDAR
